BEGIN:VCALENDAR
VERSION:2.0
PRODID:-//Silverbacks Park - ECPv6.15.20//NONSGML v1.0//EN
CALSCALE:GREGORIAN
METHOD:PUBLISH
X-ORIGINAL-URL:https://silverbackspark.com
X-WR-CALDESC:Events for Silverbacks Park
REFRESH-INTERVAL;VALUE=DURATION:PT1H
X-Robots-Tag:noindex
X-PUBLISHED-TTL:PT1H
BEGIN:VTIMEZONE
TZID:UTC
BEGIN:STANDARD
TZOFFSETFROM:+0000
TZOFFSETTO:+0000
TZNAME:UTC
DTSTART:20230101T000000
END:STANDARD
END:VTIMEZONE
BEGIN:VEVENT
DTSTART;TZID=UTC:20240504T193000
DTEND;TZID=UTC:20240504T210000
DTSTAMP:20260424T101423
CREATED:20240502T020348Z
LAST-MODIFIED:20240502T020348Z
UID:1901-1714851000-1714856400@silverbackspark.com
SUMMARY:Atlanta Hustle vs New York Empire
DESCRIPTION:TICKET | MAY 4TH 2024 | VS NEW YORK\n$40.00\nCome be the Force behind the Hustle toppling the reigning UFA champion NY (evil) Empire. This is one of the most anticipated games of the year and a national broadcast. We need you there to create a rowdy playoff atmosphere. Help us defend our turf and make ATL a tough place to visit\nFeatured offer – 4 Tickets for just $40. Include 4 drink vouchers. \n________________________________\nOpening pull at 730pm.\nNEW TICKET: 1 drink at Willie B’s is included with your Ticket. You can redeem a voucher for a draft beer\, seltzer\, soft drink\, or water.\nAre you subscribed to WatchUFA.tv to catch the Hustle on the road?\n* Check your email for a receipt from store@atlantahustle.com. You’ll need this to enter on gameday. It includes a link to our Digital Program.\n* Kids Under 14 admitted for free to any game without a ticket\n* Our stadium charges a $5 parking fee. Cash and credit card are accepted at the gate. \n* Buy tickets online for the best prices\n* Games continue as scheduled during rain\, but can be delayed by lightning in the area\n* Gates open 1 hour before opening pull\nTicket types: All tickets are general admission seating\n* Kids – All Kids under 14 are admitted for free\n* Youth – Kids age 14-18\n* Adult (online) – General admission ticket discounted for online purchases\n* Family pass – Admits 4 to a game as a group\nOther tickets types:\n* Senior and Veteran – Discounted prices for those who have served or are over 64\n* Group of 10 – Admits 10 to a game as a group\n* College 2 for $20 – With an active college ID you and a friend can enter for $10 each\n* Adult (walk up) – For staff only to use at point of sale \nAtlanta Hustle vs New York Empire May 4th
URL:https://silverbackspark.com/event/atlanta-hustle-vs-new-york-empire/
LOCATION:Silverbacks Park\, 3200 Atlanta Silverbacks Way\, Atlanta\, GA\, 30340\, United States
CATEGORIES:Ultimate Disc
ATTACH;FMTTYPE=image/png:https://silverbackspark.com/wp-content/uploads/2024/05/HustleMay4th.png
ORGANIZER;CN="Atlanta Hustle":MAILTO:jboezi@atlantahustle.com
END:VEVENT
END:VCALENDAR